BEGIN:VCALENDAR
VERSION:2.0
PRODID:-//eventon.com NONSGML v1.0//EN
BEGIN:VEVENT
UID:69e6d3c7e7b59
DTSTAMP:20260421T033255
DTSTART:20210314T220000Z
DTEND:20210315T215900Z
LOCATION:
SUMMARY:Ouverture de six formations CQP métiers du commerce
DESCRIPTION: Les Écoles de la CCI Dordogne à Boulazac ouvrent six formations CQP métiers du commerce de détail à partir du 15 mars. Ces formations en CQP métiers du commerce sont alternées et/ou rémunérées. Les domaines : vente-conseil à la clientèle en boutique spécialisée de détail\,  produits bio\,  fruits et légumes\, [..]
URL:https://www.ecoles.dordogne.cci.fr/events/ouverture-de-six-formations-cqp-metiers-du-commerce/
END:VEVENT
END:VCALENDAR