BEGIN:VCALENDAR
VERSION:2.0
PRODID:-//eventon.com NONSGML v1.0//EN
BEGIN:VEVENT
UID:69e4d69778936
DTSTAMP:20260419T152023
DTSTART:20250321T070000Z
DTEND:20250322T160000Z
LOCATION:
SUMMARY:Salon de l'Emploi\,  de la Reconversion et de la Formation 2025
DESCRIPTION: &nbsp; Vous vous interrogez sur votre avenir professionnel\,  vous songez à vous reconvertir\,  vous ne savez pas comment vous y prendre ? Venez nous rencontrer le 21 et 22 mars au Salon de l'Emploi\,  de la Reconversion et de la Formation. Venez rencontrer les acteurs de la reconversion pour vous[..]
URL:https://www.ecoles.dordogne.cci.fr/events/salon-de-lemploi-de-la-reconversion-et-de-la-formation-2025/
END:VEVENT
END:VCALENDAR